BEGIN:VCALENDAR
VERSION:2.0
PRODID:-//The BioCalendar - ECPv6.15.20//NONSGML v1.0//EN
CALSCALE:GREGORIAN
METHOD:PUBLISH
X-WR-CALNAME:The BioCalendar
X-ORIGINAL-URL:https://thebiocalendar.com
X-WR-CALDESC:Events for The BioCalendar
REFRESH-INTERVAL;VALUE=DURATION:PT1H
X-Robots-Tag:noindex
X-PUBLISHED-TTL:PT1H
BEGIN:VTIMEZONE
TZID:America/Los_Angeles
BEGIN:DAYLIGHT
TZOFFSETFROM:-0800
TZOFFSETTO:-0700
TZNAME:PDT
DTSTART:20250309T100000
END:DAYLIGHT
BEGIN:STANDARD
TZOFFSETFROM:-0700
TZOFFSETTO:-0800
TZNAME:PST
DTSTART:20251102T090000
END:STANDARD
BEGIN:DAYLIGHT
TZOFFSETFROM:-0800
TZOFFSETTO:-0700
TZNAME:PDT
DTSTART:20260308T100000
END:DAYLIGHT
BEGIN:STANDARD
TZOFFSETFROM:-0700
TZOFFSETTO:-0800
TZNAME:PST
DTSTART:20261101T090000
END:STANDARD
BEGIN:DAYLIGHT
TZOFFSETFROM:-0800
TZOFFSETTO:-0700
TZNAME:PDT
DTSTART:20270314T100000
END:DAYLIGHT
BEGIN:STANDARD
TZOFFSETFROM:-0700
TZOFFSETTO:-0800
TZNAME:PST
DTSTART:20271107T090000
END:STANDARD
END:VTIMEZONE
BEGIN:VEVENT
DTSTART;TZID=America/Los_Angeles:20260407T100000
DTEND;TZID=America/Los_Angeles:20260409T120000
DTSTAMP:20260422T082714
CREATED:20260224T154635Z
LAST-MODIFIED:20260224T154635Z
UID:9968-1775556000-1775736000@thebiocalendar.com
SUMMARY:Cell & Gene Tech Expo
DESCRIPTION:The Cell & Gene Tech Expo is designed to aid professionals in discovering the latest advancements and equipment critical to cell and gene therapy development. Attendees will explore state-of-the-art solutions such as bioreactor systems\, cell sorting and isolation technologies\, automated platforms\, non-viral gene editing tools like electroporation and CRISPR\, data monitoring tools\, sterilization solutions\, and more. \nThis digital event is free for Cell & Gene subscribers and offers an alternative to in-person events which can be costly\, ineffective\, and time-consuming. Through this virtual platform\, professionals can effortlessly connect with various suppliers\, making the selection process more accessible and informed. \nCell Therapy Solutions – April 7\, 2026\nGene Therapy Solutions – April 8\, 2026\nCommercial Readiness – April 9\, 2026
URL:https://thebiocalendar.com/event/cell-gene-tech-expo/
ATTACH;FMTTYPE=image/jpeg:https://thebiocalendar.com/wp-content/uploads/2026/02/cellgeneexpo.jpg
END:VEVENT
END:VCALENDAR