BEGIN:VCALENDAR
VERSION:2.0
PRODID:-//The BioCalendar - ECPv6.15.20//NONSGML v1.0//EN
CALSCALE:GREGORIAN
METHOD:PUBLISH
X-WR-CALNAME:The BioCalendar
X-ORIGINAL-URL:https://thebiocalendar.com
X-WR-CALDESC:Events for The BioCalendar
REFRESH-INTERVAL;VALUE=DURATION:PT1H
X-Robots-Tag:noindex
X-PUBLISHED-TTL:PT1H
BEGIN:VTIMEZONE
TZID:America/Los_Angeles
BEGIN:DAYLIGHT
TZOFFSETFROM:-0800
TZOFFSETTO:-0700
TZNAME:PDT
DTSTART:20250309T100000
END:DAYLIGHT
BEGIN:STANDARD
TZOFFSETFROM:-0700
TZOFFSETTO:-0800
TZNAME:PST
DTSTART:20251102T090000
END:STANDARD
BEGIN:DAYLIGHT
TZOFFSETFROM:-0800
TZOFFSETTO:-0700
TZNAME:PDT
DTSTART:20260308T100000
END:DAYLIGHT
BEGIN:STANDARD
TZOFFSETFROM:-0700
TZOFFSETTO:-0800
TZNAME:PST
DTSTART:20261101T090000
END:STANDARD
BEGIN:DAYLIGHT
TZOFFSETFROM:-0800
TZOFFSETTO:-0700
TZNAME:PDT
DTSTART:20270314T100000
END:DAYLIGHT
BEGIN:STANDARD
TZOFFSETFROM:-0700
TZOFFSETTO:-0800
TZNAME:PST
DTSTART:20271107T090000
END:STANDARD
END:VTIMEZONE
BEGIN:VEVENT
DTSTART;VALUE=DATE:20260417
DTEND;VALUE=DATE:20260423
DTSTAMP:20260424T013729
CREATED:20251125T143125Z
LAST-MODIFIED:20251125T143125Z
UID:9583-1776384000-1776902399@thebiocalendar.com
SUMMARY:AACR Annual Meeting 2026
DESCRIPTION:The AACR Annual Meeting is the focal point of the cancer research community\, where scientists\, clinicians\, other health care professionals\, survivors\, patients\, and advocates gather to share the latest advances in cancer science and medicine. From population science and prevention; to cancer biology\, translational\, and clinical studies; to survivorship and advocacy; the AACR Annual Meeting highlights the work of the best minds in cancer research from institutions all over the world.
URL:https://thebiocalendar.com/event/aacr-annual-meeting-2026/
LOCATION:San Diego\, San Diego\, CA\, United States
CATEGORIES:Annual Meeting
END:VEVENT
END:VCALENDAR