BEGIN:VCALENDAR
VERSION:2.0
PRODID:-//The BioCalendar - ECPv6.15.20//NONSGML v1.0//EN
CALSCALE:GREGORIAN
METHOD:PUBLISH
X-WR-CALNAME:The BioCalendar
X-ORIGINAL-URL:https://thebiocalendar.com
X-WR-CALDESC:Events for The BioCalendar
REFRESH-INTERVAL;VALUE=DURATION:PT1H
X-Robots-Tag:noindex
X-PUBLISHED-TTL:PT1H
BEGIN:VTIMEZONE
TZID:America/Los_Angeles
BEGIN:DAYLIGHT
TZOFFSETFROM:-0800
TZOFFSETTO:-0700
TZNAME:PDT
DTSTART:20250309T100000
END:DAYLIGHT
BEGIN:STANDARD
TZOFFSETFROM:-0700
TZOFFSETTO:-0800
TZNAME:PST
DTSTART:20251102T090000
END:STANDARD
BEGIN:DAYLIGHT
TZOFFSETFROM:-0800
TZOFFSETTO:-0700
TZNAME:PDT
DTSTART:20260308T100000
END:DAYLIGHT
BEGIN:STANDARD
TZOFFSETFROM:-0700
TZOFFSETTO:-0800
TZNAME:PST
DTSTART:20261101T090000
END:STANDARD
BEGIN:DAYLIGHT
TZOFFSETFROM:-0800
TZOFFSETTO:-0700
TZNAME:PDT
DTSTART:20270314T100000
END:DAYLIGHT
BEGIN:STANDARD
TZOFFSETFROM:-0700
TZOFFSETTO:-0800
TZNAME:PST
DTSTART:20271107T090000
END:STANDARD
END:VTIMEZONE
BEGIN:VEVENT
DTSTART;VALUE=DATE:20260427
DTEND;VALUE=DATE:20260501
DTSTAMP:20260422T082726
CREATED:20260327T142423Z
LAST-MODIFIED:20260327T142423Z
UID:10109-1777248000-1777593599@thebiocalendar.com
SUMMARY:BPI Europe
DESCRIPTION:Join us as we return to Vienna\, a globally recognized meeting destination and one of Europe’s premier life science hubs. The city is home to the renowned Vienna BioCenter\, a nexus of academic research and over 50 innovative biotech companies\, alongside industry leaders like Boehringer Ingelheim\, Takeda and Novartis. This powerful combination of scientific excellence\, seamless accessibility\, and rich cultural heritage provides the ideal backdrop to connect with global pioneers and forge the collaborations that will drive the future of bioprocessing.
URL:https://thebiocalendar.com/event/bpi-europe/
LOCATION:Vienna\, Vienna\, 1300\, Austria
CATEGORIES:Seminar
END:VEVENT
BEGIN:VEVENT
DTSTART;VALUE=DATE:20260428
DTEND;VALUE=DATE:20260430
DTSTAMP:20260422T082726
CREATED:20251209T120633Z
LAST-MODIFIED:20251209T120633Z
UID:9639-1777334400-1777507199@thebiocalendar.com
SUMMARY:Cell & Gene Therapy Summit
DESCRIPTION:A Decade of Expertise\, Now in China: Cell & Gene Therapy Summit 2026 \n\n\n\nWith over a decade of experience hosting premier cell and gene therapy events in the US and Europe\, attracting 1\,500+ attendees annually\, Cell & Gene Therapy International is bringing its expertise to China. The 2026 summit in Shanghai is designed to foster collaboration among top researchers\, biopharmaceutical leaders\, and industry pioneers\, with a focus on cutting-edge R&D\, manufacturing excellence\, and strategic partnerships. Attendees will gain unparalleled insights into breakthrough methodologies across cell therapies\, gene editing platforms\, viral vector technologies\, and the discovery-to-clinic continuum—empowering them to drive innovation and growth in the China market.
URL:https://thebiocalendar.com/event/cell-gene-therapy-summit/
LOCATION:Shanghai\, Shanghai\, China
CATEGORIES:Summit
END:VEVENT
BEGIN:VEVENT
DTSTART;VALUE=DATE:20260428
DTEND;VALUE=DATE:20260430
DTSTAMP:20260422T082726
CREATED:20251210T120316Z
LAST-MODIFIED:20251210T120316Z
UID:9640-1777334400-1777507199@thebiocalendar.com
SUMMARY:ChinaBio Partnering Forum
DESCRIPTION:The ChinaBio Partnering Forum is China’s premier life science event\, connecting global biopharma with China’s market for strategic partnerships\, investment\, and innovation\, featuring partneringONE technology\, company pitches (like Startup Spotlight)\, expert panels\, and networking to accelerate cross-border deals.
URL:https://thebiocalendar.com/event/chinabio-partnering-forum-3/
LOCATION:Shanghai\, Shanghai\, China
CATEGORIES:Forum,Partnering
END:VEVENT
BEGIN:VEVENT
DTSTART;VALUE=DATE:20260428
DTEND;VALUE=DATE:20260501
DTSTAMP:20260422T082726
CREATED:20260130T130200Z
LAST-MODIFIED:20260202T184211Z
UID:9838-1777334400-1777593599@thebiocalendar.com
SUMMARY:3rd Biophysics for Drug Discovery Summit 
DESCRIPTION:The 3rd Biophysics for Drug Discovery Summit offers a rare\, highly technical\, industry-focused forum dedicated solely to biophysics. Unlike broader drug discovery meetings\, this summit provides a comprehensive view of techniques\, emerging technologies\, and practical applications. Through case studies\, panel discussions\, and interactive dialogue\, attendees will explore how next-generation biophysics drives predictive pipelines and accelerates discovery.  \nTo find out more\, please view the full 2026 event program here: https://ter.li/efenue
URL:https://thebiocalendar.com/event/3rd-biophysics-for-drug-discovery-summit/
LOCATION:Boston\, MA\, 02210\, United States
CATEGORIES:Summit
END:VEVENT
BEGIN:VEVENT
DTSTART;TZID=America/Los_Angeles:20260428T080000
DTEND;TZID=America/Los_Angeles:20260428T130000
DTSTAMP:20260422T082726
CREATED:20260327T140548Z
LAST-MODIFIED:20260327T140548Z
UID:10106-1777363200-1777381200@thebiocalendar.com
SUMMARY:Southern California Life Sciences & Biotech Summit
DESCRIPTION:What You’ll Learn:  \n\nMapping the Next Frontier of Growth: How Southern California’s biotech\, pharma\, therapeutics and medtech industries are evolving\, and which markets are maturing fastest.\nCommercial Real Estate Outlook: How landlords\, developers and owners are adapting to laboratory and biomanufacturing requirements in a rapidly advancing industry.\nFunding & Investment Conditions: Who is investing\, what types of science attract capital today\, and how financing is shifting in 2026.\nCommercialization & Scaling: How startups are moving from discovery to proof-of-concept\, early manufacturing and commercial deployment—plus how real estate plays into that journey.\nTechnology & Infrastructure Innovation: How AI\, data science\, robotics and automation are influencing design requirements and operational decision-making.\nInstitutional Partnerships: How universities\, research institutions and government are shaping growth through capital\, workforce pipelines and innovation accelerators.\n\n  \nHow You’ll Do More Business From Attending This CRE Event: Southern California life sciences market is driven by an expanding biotech startup ecosystem\, a surge in late-stage developments\, a diversified talent pool\, and accelerating commercialization of research coming from world-class institutions. San Diego\, Orange County\, and Greater Los Angeles are providing new territory for investors\, developers\, property owners\, and operators to capture market share. Join leaders across biotech\, R&D\, real estate\, investment\, and government as we explore the forces sha
URL:https://thebiocalendar.com/event/southern-california-life-sciences-biotech-summit/
LOCATION:San Diego\, San Diego\, CA\, United States
CATEGORIES:Summit
END:VEVENT
BEGIN:VEVENT
DTSTART;TZID=America/Los_Angeles:20260428T110000
DTEND;TZID=America/Los_Angeles:20260428T120000
DTSTAMP:20260422T082726
CREATED:20260326T185458Z
LAST-MODIFIED:20260326T185458Z
UID:10088-1777374000-1777377600@thebiocalendar.com
SUMMARY:Closing The Adoption Gap For Advanced Single-Use Materials
DESCRIPTION:Despite nearly two decades of industry surveys demonstrating a steady demand for new and improved single-use technologies\, next-generation films\, polymers\, and components struggle to achieve widespread adoption. \nJoin Bioprocess Online’s Tyler Menichiello for an interactive panel discussion examining how regulatory lag\, evolving biocompatibility standards\, and the complexity of converting legacy systems slow the uptake of innovative single-use materials in biomanufacturing. This conversation will feature BioPlan Associates’ director of research\, Katrina Cordovado\, and consultant Paul Priebe\, a single-use bioprocessing technology expert. They will discuss the validation challenges new technologies and materials face\, highlighting the standards bodies and industry organizations working to improve harmonization and what these efforts mean for manufacturers evaluating these materials.
URL:https://thebiocalendar.com/event/closing-the-adoption-gap-for-advanced-single-use-materials/
ATTACH;FMTTYPE=image/png:https://thebiocalendar.com/wp-content/uploads/2026/03/26_04-BPOL-LinkedIn-1280x720-1.png
END:VEVENT
END:VCALENDAR