BEGIN:VCALENDAR
VERSION:2.0
PRODID:-//The BioCalendar - ECPv6.15.20//NONSGML v1.0//EN
CALSCALE:GREGORIAN
METHOD:PUBLISH
X-ORIGINAL-URL:https://thebiocalendar.com
X-WR-CALDESC:Events for The BioCalendar
REFRESH-INTERVAL;VALUE=DURATION:PT1H
X-Robots-Tag:noindex
X-PUBLISHED-TTL:PT1H
BEGIN:VTIMEZONE
TZID:America/Los_Angeles
BEGIN:DAYLIGHT
TZOFFSETFROM:-0800
TZOFFSETTO:-0700
TZNAME:PDT
DTSTART:20250309T100000
END:DAYLIGHT
BEGIN:STANDARD
TZOFFSETFROM:-0700
TZOFFSETTO:-0800
TZNAME:PST
DTSTART:20251102T090000
END:STANDARD
BEGIN:DAYLIGHT
TZOFFSETFROM:-0800
TZOFFSETTO:-0700
TZNAME:PDT
DTSTART:20260308T100000
END:DAYLIGHT
BEGIN:STANDARD
TZOFFSETFROM:-0700
TZOFFSETTO:-0800
TZNAME:PST
DTSTART:20261101T090000
END:STANDARD
BEGIN:DAYLIGHT
TZOFFSETFROM:-0800
TZOFFSETTO:-0700
TZNAME:PDT
DTSTART:20270314T100000
END:DAYLIGHT
BEGIN:STANDARD
TZOFFSETFROM:-0700
TZOFFSETTO:-0800
TZNAME:PST
DTSTART:20271107T090000
END:STANDARD
END:VTIMEZONE
BEGIN:VEVENT
DTSTART;VALUE=DATE:20260507
DTEND;VALUE=DATE:20260509
DTSTAMP:20260424T012935
CREATED:20260327T140922Z
LAST-MODIFIED:20260327T140922Z
UID:10108-1778112000-1778284799@thebiocalendar.com
SUMMARY:The Convergence Forum
DESCRIPTION:What opportunities get created as fields converge? What challenges surface as markets\, policies\, and investing dynamics shift? What new scientific discoveries are potential game-changers? Convergence exists to explore those questions (and many others)\, with a high-level audience interested in what’s happening in the rapidly-converging worlds of biotech\, pharma\, healthcare\, medical devices\, and the Internet. \nThe Convergence Forum fosters real debate and discussion among audiences that are every bit as high-level as the speakers. The programs provide an opportunity for participants to make important new contacts\, do business\, explore important new directions in research\, delve deeply into what it takes to maintain competitive advantage in a fast-changing world\, and leave feeling recharged.
URL:https://thebiocalendar.com/event/the-convergence-forum-2/
LOCATION:Cape Cod\, Harwich\, MA\, 02645\, United States
CATEGORIES:Forum
END:VEVENT
BEGIN:VEVENT
DTSTART;VALUE=DATE:20260519
DTEND;VALUE=DATE:20260522
DTSTAMP:20260424T012935
CREATED:20260420T150251Z
LAST-MODIFIED:20260420T150251Z
UID:10232-1779148800-1779407999@thebiocalendar.com
SUMMARY:LEAP HR: Life Sciences West
DESCRIPTION:Returning for its 8th year\, LEAP HR: Life Sciences West reunites 100+ senior HR leaders from scaling and stabilizing biotech organizations to uncover how to navigate volatility\, unlock peer-led insights\, and deliver tangible business impact. \nAcross three days of high-impact content\, you’ll gain actionable takeaways through case studies\, benchmarking sessions\, structured networking\, roundtable discussions\, and speed learning. From navigating immigration shifts and political change to building lean HR functions and retaining talent in a competitive market\, this is the only forum dedicated to tackling the unique people challenges facing West Coast life sciences organizations. \nJoin us this May to connect with forward–thinking HR leaders and discover how to lead with clarity\, creativity\, and confidence in a rapidly evolving operating environment.
URL:https://thebiocalendar.com/event/leap-hr-life-sciences-west-2/
LOCATION:San Diego\, San Diego\, CA\, United States
CATEGORIES:Forum,Summit
END:VEVENT
END:VCALENDAR