BEGIN:VCALENDAR
VERSION:2.0
PRODID:-//The BioCalendar - ECPv6.15.20//NONSGML v1.0//EN
CALSCALE:GREGORIAN
METHOD:PUBLISH
X-WR-CALNAME:The BioCalendar
X-ORIGINAL-URL:https://thebiocalendar.com
X-WR-CALDESC:Events for The BioCalendar
REFRESH-INTERVAL;VALUE=DURATION:PT1H
X-Robots-Tag:noindex
X-PUBLISHED-TTL:PT1H
BEGIN:VTIMEZONE
TZID:America/Los_Angeles
BEGIN:DAYLIGHT
TZOFFSETFROM:-0800
TZOFFSETTO:-0700
TZNAME:PDT
DTSTART:20250309T100000
END:DAYLIGHT
BEGIN:STANDARD
TZOFFSETFROM:-0700
TZOFFSETTO:-0800
TZNAME:PST
DTSTART:20251102T090000
END:STANDARD
BEGIN:DAYLIGHT
TZOFFSETFROM:-0800
TZOFFSETTO:-0700
TZNAME:PDT
DTSTART:20260308T100000
END:DAYLIGHT
BEGIN:STANDARD
TZOFFSETFROM:-0700
TZOFFSETTO:-0800
TZNAME:PST
DTSTART:20261101T090000
END:STANDARD
BEGIN:DAYLIGHT
TZOFFSETFROM:-0800
TZOFFSETTO:-0700
TZNAME:PDT
DTSTART:20270314T100000
END:DAYLIGHT
BEGIN:STANDARD
TZOFFSETFROM:-0700
TZOFFSETTO:-0800
TZNAME:PST
DTSTART:20271107T090000
END:STANDARD
END:VTIMEZONE
BEGIN:VEVENT
DTSTART;VALUE=DATE:20260202
DTEND;VALUE=DATE:20260204
DTSTAMP:20260422T114904
CREATED:20251121T120044Z
LAST-MODIFIED:20251121T120044Z
UID:9562-1769990400-1770163199@thebiocalendar.com
SUMMARY:Life Science Women's Conference 2026
DESCRIPTION:The Conference for Women Who Are Leading the Way in Life Science\nJoin us for two-days of networking with resourceful exhibitors\, presenters and speakers\, who are shaping what’s next in life science\, biotech\, medtech\,  femtech\, pharma\, women’s health and medicine. \nWith a focus on Funding & Entrepreneurship\, HR\, Career Development\, New Products\, and Career Connections\, the LSWC brings together some of the most successful professionals\, who want to connect with you!
URL:https://thebiocalendar.com/event/life-science-womens-conference-2026/
LOCATION:Tampa Bay\, Tampa\, FL\, 33620\, United States
CATEGORIES:Networking,Partnering,Women's Health
END:VEVENT
END:VCALENDAR