BEGIN:VCALENDAR
VERSION:2.0
PRODID:-//The BioCalendar - ECPv6.15.20//NONSGML v1.0//EN
CALSCALE:GREGORIAN
METHOD:PUBLISH
X-WR-CALNAME:The BioCalendar
X-ORIGINAL-URL:https://thebiocalendar.com
X-WR-CALDESC:Events for The BioCalendar
REFRESH-INTERVAL;VALUE=DURATION:PT1H
X-Robots-Tag:noindex
X-PUBLISHED-TTL:PT1H
BEGIN:VTIMEZONE
TZID:America/Los_Angeles
BEGIN:DAYLIGHT
TZOFFSETFROM:-0800
TZOFFSETTO:-0700
TZNAME:PDT
DTSTART:20250309T100000
END:DAYLIGHT
BEGIN:STANDARD
TZOFFSETFROM:-0700
TZOFFSETTO:-0800
TZNAME:PST
DTSTART:20251102T090000
END:STANDARD
BEGIN:DAYLIGHT
TZOFFSETFROM:-0800
TZOFFSETTO:-0700
TZNAME:PDT
DTSTART:20260308T100000
END:DAYLIGHT
BEGIN:STANDARD
TZOFFSETFROM:-0700
TZOFFSETTO:-0800
TZNAME:PST
DTSTART:20261101T090000
END:STANDARD
BEGIN:DAYLIGHT
TZOFFSETFROM:-0800
TZOFFSETTO:-0700
TZNAME:PDT
DTSTART:20270314T100000
END:DAYLIGHT
BEGIN:STANDARD
TZOFFSETFROM:-0700
TZOFFSETTO:-0800
TZNAME:PST
DTSTART:20271107T090000
END:STANDARD
END:VTIMEZONE
BEGIN:VEVENT
DTSTART;VALUE=DATE:20260224
DTEND;VALUE=DATE:20260227
DTSTAMP:20260422T115455
CREATED:20260105T162210Z
LAST-MODIFIED:20260105T162211Z
UID:9707-1771891200-1772150399@thebiocalendar.com
SUMMARY:Biocom California's Global Partnering & Investor Conference
DESCRIPTION:Biocom California’s 16th Annual Global Life Science Partnering & Investor Conference is an exclusive global partnering and networking forum that brings together over 500 investors and senior executives\, including CEOs and heads of business development\, licensing\, M&A\, and research and development from leading pharmaceutical\, biotech\, and research organizations from over 20 countries. Join us in San Diego where industry leaders will debate current trends\, companies will showcase their latest technologies and all attendees will have the opportunity to schedule partnering meetings with leading dealmakers.
URL:https://thebiocalendar.com/event/biocom-californias-global-partnering-investor-conference/
LOCATION:La Jolla
CATEGORIES:Investor,Partnering
END:VEVENT
END:VCALENDAR