BEGIN:VCALENDAR
VERSION:2.0
PRODID:-//The BioCalendar - ECPv6.15.20//NONSGML v1.0//EN
CALSCALE:GREGORIAN
METHOD:PUBLISH
X-ORIGINAL-URL:https://thebiocalendar.com
X-WR-CALDESC:Events for The BioCalendar
REFRESH-INTERVAL;VALUE=DURATION:PT1H
X-Robots-Tag:noindex
X-PUBLISHED-TTL:PT1H
BEGIN:VTIMEZONE
TZID:America/Los_Angeles
BEGIN:DAYLIGHT
TZOFFSETFROM:-0800
TZOFFSETTO:-0700
TZNAME:PDT
DTSTART:20250309T100000
END:DAYLIGHT
BEGIN:STANDARD
TZOFFSETFROM:-0700
TZOFFSETTO:-0800
TZNAME:PST
DTSTART:20251102T090000
END:STANDARD
BEGIN:DAYLIGHT
TZOFFSETFROM:-0800
TZOFFSETTO:-0700
TZNAME:PDT
DTSTART:20260308T100000
END:DAYLIGHT
BEGIN:STANDARD
TZOFFSETFROM:-0700
TZOFFSETTO:-0800
TZNAME:PST
DTSTART:20261101T090000
END:STANDARD
BEGIN:DAYLIGHT
TZOFFSETFROM:-0800
TZOFFSETTO:-0700
TZNAME:PDT
DTSTART:20270314T100000
END:DAYLIGHT
BEGIN:STANDARD
TZOFFSETFROM:-0700
TZOFFSETTO:-0800
TZNAME:PST
DTSTART:20271107T090000
END:STANDARD
END:VTIMEZONE
BEGIN:VEVENT
DTSTART;VALUE=DATE:20260422
DTEND;VALUE=DATE:20260424
DTSTAMP:20260423T014851
CREATED:20260116T133300Z
LAST-MODIFIED:20260116T133300Z
UID:9795-1776816000-1776988799@thebiocalendar.com
SUMMARY:AI x Next Generation Clinical Trials
DESCRIPTION:AI x Next Generation Clinical Trials is the premier event for exploring how artificial intelligence is revolutionizing clinical trial design\, execution\, and outcomes. This inaugural conference brings together industry leaders\, AI innovators\, and clinical trial experts to discuss the latest advancements in AI-driven patient recruitment\, trial optimization\, and data analysis. Gain actionable insights into leveraging AI to accelerate timelines\, reduce costs\, and improve trial success rates. With a focus on real-world applications\, emerging technologies\, and regulatory considerations\, this event is your opportunity to transform your approach to innovation and efficiency.
URL:https://thebiocalendar.com/event/ai-x-next-generation-clinical-trials/
LOCATION:Boston\, MA\, 02210\, United States
CATEGORIES:Summit
END:VEVENT
BEGIN:VEVENT
DTSTART;VALUE=DATE:20260428
DTEND;VALUE=DATE:20260501
DTSTAMP:20260423T014851
CREATED:20260130T130200Z
LAST-MODIFIED:20260202T184211Z
UID:9838-1777334400-1777593599@thebiocalendar.com
SUMMARY:3rd Biophysics for Drug Discovery Summit 
DESCRIPTION:The 3rd Biophysics for Drug Discovery Summit offers a rare\, highly technical\, industry-focused forum dedicated solely to biophysics. Unlike broader drug discovery meetings\, this summit provides a comprehensive view of techniques\, emerging technologies\, and practical applications. Through case studies\, panel discussions\, and interactive dialogue\, attendees will explore how next-generation biophysics drives predictive pipelines and accelerates discovery.  \nTo find out more\, please view the full 2026 event program here: https://ter.li/efenue
URL:https://thebiocalendar.com/event/3rd-biophysics-for-drug-discovery-summit/
LOCATION:Boston\, MA\, 02210\, United States
CATEGORIES:Summit
END:VEVENT
BEGIN:VEVENT
DTSTART;VALUE=DATE:20260511
DTEND;VALUE=DATE:20260516
DTSTAMP:20260423T014851
CREATED:20251206T101044Z
LAST-MODIFIED:20251206T101044Z
UID:9623-1778457600-1778889599@thebiocalendar.com
SUMMARY:ASGCT Annual Meeting
DESCRIPTION:The ASGCT Annual Meeting is the leading global event for professionals in gene and cell therapy\, hosted by the American Society of Gene + Cell Therapy (ASGCT) to showcase cutting-edge research\, new technologies\, and clinical applications\, offering crucial networking for scientists\, industry leaders\, and clinicians to advance treatments for human diseases. It features expert presentations\, novel abstract presentations\, workshops\, and exhibitions from companies in the cell and gene therapy ecosystem.
URL:https://thebiocalendar.com/event/asgct-annual-meeting/
LOCATION:Boston\, MA\, 02210\, United States
CATEGORIES:Academic Research,Networking,Presentation
END:VEVENT
BEGIN:VEVENT
DTSTART;VALUE=DATE:20260511
DTEND;VALUE=DATE:20260516
DTSTAMP:20260423T014851
CREATED:20251206T101440Z
LAST-MODIFIED:20260116T121409Z
UID:9625-1778457600-1778889599@thebiocalendar.com
SUMMARY:PEGS Boston
DESCRIPTION:The PEGS Boston Summit is where the future of biologics takes shape. For over 20 years\, PEGS is the go-to event for protein and antibody engineering\, drug development\, immunotherapy\, radiotherapy\, and AI/ML-driven biologics research. New in 2026: a dedicated focus on peptides\, spotlighting their therapeutic power\, design innovations\, and expanding role in drug discovery. \nWith 350+ presentations\, breakout sessions\, and interactive training seminars\, PEGS delivers the insights and connections you need to stay ahead. The exhibit hall buzzes with top technology and service providers\, giving you a front-row seat to the tools transforming the industry. \nDon’t just follow the science – be part of it. Join us at the 2026 PEGS Boston Summit and connect with the leaders shaping what’s next in biologics and beyond.
URL:https://thebiocalendar.com/event/pegs-boston-3/
LOCATION:Boston\, MA\, 02210\, United States
CATEGORIES:Featured,Summit
ATTACH;FMTTYPE=image/png:https://thebiocalendar.com/wp-content/uploads/2025/12/pegs2026-scaled.png
END:VEVENT
BEGIN:VEVENT
DTSTART;VALUE=DATE:20260512
DTEND;VALUE=DATE:20260515
DTSTAMP:20260423T014851
CREATED:20260330T202508Z
LAST-MODIFIED:20260330T202508Z
UID:10116-1778544000-1778803199@thebiocalendar.com
SUMMARY:Fierce Biotech Week
DESCRIPTION:Be in the Room Where Decisions Are Made \n\n\n\n\n\n\n\n\nFierce Biotech Week attracts senior leaders across biotech and pharma\, including: \n\n\nC-suite executives and founders \n\n\nHeads of R&D and Drug Development \n\n\nClinical & TMF leadership \n\n\nBD&L and corporate strategy teams \n\n\nPR & Communications executives \n\n\nStrategic outsourcing partners \n\n\nThis is not a spectator audience. It’s a room of decision-makers.
URL:https://thebiocalendar.com/event/fierce-biotech-week-2/
LOCATION:Boston\, MA\, 02210\, United States
CATEGORIES:Summit
END:VEVENT
BEGIN:VEVENT
DTSTART;VALUE=DATE:20260519
DTEND;VALUE=DATE:20260522
DTSTAMP:20260423T014851
CREATED:20251206T101304Z
LAST-MODIFIED:20251206T101316Z
UID:9624-1779148800-1779407999@thebiocalendar.com
SUMMARY:Bio-IT Conference & Expo
DESCRIPTION:The Bio-IT World Conference & Expo is the premier global event showcasing technologies and analytic approaches that solve problems\, accelerate science\, and drive the future of precision medicine. Now in its 25th year\, the event convenes more than 2\,900 leaders from biopharma\, clinical research\, healthcare\, informatics\, and technology to exchange ideas\, showcase solutions\, and spark collaborations that push the boundaries of biomedical research\, drug discovery\, and patient outcomes. Spanning 200+ sessions—including plenary keynotes\, symposia\, technical workshops\, and hands-on demonstrations—Bio-IT World offers unmatched opportunities to explore the tools\, platforms\, and strategies redefining R&D and clinical care. From AI\, generative AI\, and machine learning to multimodal and real-world data strategies\, FAIR/Open Source practices\, pilot programs\, new product launches\, and biotech investment trends\, attendees engage in transformative conversations that translate innovation into measurable value. \nAt its core\, Bio-IT World is more than a conference—it is a community driving discovery\, accelerating science\, and shaping the conversations that define the next era of precision medicine.
URL:https://thebiocalendar.com/event/bio-it-conference-expo-2/
LOCATION:Boston\, MA\, 02210\, United States
CATEGORIES:Expo
END:VEVENT
BEGIN:VEVENT
DTSTART;TZID=America/Los_Angeles:20260602T080000
DTEND;TZID=America/Los_Angeles:20260602T123000
DTSTAMP:20260423T014851
CREATED:20260327T140751Z
LAST-MODIFIED:20260327T140751Z
UID:10107-1780387200-1780403400@thebiocalendar.com
SUMMARY:Boston Life Sciences Conference
DESCRIPTION:What You’ll Learn: \n\nHow does life sciences continue to be Boston’s and Cambridge’s economic engine amid a softening market?\nWith total VC investment at $6.85B across 197 rounds in 2025\, is capital concentrating into fewer winners\, and how is that changing tenant decision making?\nWhere are AI enabled life sciences users\, automation heavy labs\, and data driven R and D teams showing up in Cambridge and Greater Boston?\nHow have significant projects in the area played a role in shaping the growth and development of the biotechnology and life science sectors?\nWhich incentives\, workforce programs\, and state tools are still available to support expansions and manufacturing growth in Massachusetts?\nWith Greater Boston lab vacancy at 28.0% in Q4 2025\, what is the realistic timeline and mechanism for absorption?\nWhat types of tenants are active in the market right now for space\, and what kind of space are they leasing up? \nWhat product is winning leasing right now: incubator\, flex lab\, mid scale growth space\, or larger HQ and R&D?\n\nHow you’ll do more business: \nConnect with industry leaders to explore emerging leasing dynamics and market trends\, and gain valuable insights on the current state of the sector. Discover cutting-edge innovations in workplace flexibility and design. Explore topics like sustainable facility design\, power solutions and access considerations and other crucial aspects that can enhance your business strategy.  \nWho attends: \nInvestors\, owners\, developers\, tenants\, end users\, brokers\, lawyers\, designers\, contractors\, architects\, property managers and more! \nWhy should you attend: \nBisnow events bring together the biggest power players in the industry to identify opportunities\, build your network\, and expand your business. With the largest audience of commercial real estate professionals in the world\, no one knows how to help your business more than us.
URL:https://thebiocalendar.com/event/boston-life-sciences-conference-2/
LOCATION:Boston\, MA\, 02210\, United States
CATEGORIES:Summit
END:VEVENT
BEGIN:VEVENT
DTSTART;TZID=America/Los_Angeles:20260603T083000
DTEND;TZID=America/Los_Angeles:20260603T150000
DTSTAMP:20260423T014851
CREATED:20260419T120546Z
LAST-MODIFIED:20260419T120546Z
UID:10231-1780475400-1780498800@thebiocalendar.com
SUMMARY:Better Together: A Pharma & Biotech EHS Forum
DESCRIPTION:Reimagine what’s possible—together.\nJoin BSI Consulting for an expert-led forum designed for pharma and biotech professionals who are shaping the next era of EHS. Connect with peers\, challenge assumptions\, and explore practical solutions to the industry’s most pressing risks and opportunities. \nThis event brings together leaders at the forefront of life sciences in EHS to learn\, debate\, and reimagine what’s possible. \nFeaturing speakers from:  \nAstraZeneca · Intellia Therapeutics · Leading multinational biotech organizations · BSI Consulting \nWhat you’ll experience\nDuring this one-day event\, you’ll be part of conversations that matter. \nKeynote spotlight: AI Large and Small  \nHear from an AI practitioner on the types of automation systems to support problem-solving\, and the opportunities and limitations of AI use. \nMulti-track roundtables with leading organizations  \nJoin guest speakers and BSI Consulting as they explore: \n\nBridging competency gaps across EHS teams.\nUnseen risks of waste misclassification in labs and R&D environments.\nAI governance\, compliance\, and date integrity in life sciences.\nBuilding biosafety systems that move beyond minimum compliance.\nSupply chain risk – details to be announced soon! \n\nInteractive discussions \nCollaborate in facilitated groups to identify shared industry challenges and co-create actionable solutions. \nYou’ll walk away with new relationships\, practical insights\, and a renewed sense of purpose in your work. \nView the full agenda!
URL:https://thebiocalendar.com/event/better-together-a-pharma-biotech-ehs-forum/
LOCATION:Boston\, MA\, 02210\, United States
CATEGORIES:Forum
END:VEVENT
BEGIN:VEVENT
DTSTART;VALUE=DATE:20260813
DTEND;VALUE=DATE:20260814
DTSTAMP:20260423T014851
CREATED:20260316T091025Z
LAST-MODIFIED:20260326T071331Z
UID:10023-1786579200-1786665599@thebiocalendar.com
SUMMARY:The Bioprocessing Summit 2026
DESCRIPTION:Elevate your expertise\, embrace innovation\, and join the global leaders who are transforming the future of bioprocessing. \nNow in its 18th year\, the Bioprocessing Summit unites a global community of scientists\, engineers\, and executives driving innovation and digitalization across process development\, scale-up\, quality\, and analytics for biologics\, antibodies\, cell and gene\, RNA\, and oligonucleotide therapies. \nExplore how technology\, data\, and AI are reshaping every stage of the bioprocessing journey — Transforming Bioprocessing for the Digital Age
URL:https://thebiocalendar.com/event/the-bioprocessing-summit-2026/
LOCATION:Boston\, MA\, 02210\, United States
CATEGORIES:Featured,Summit
ATTACH;FMTTYPE=image/jpeg:https://thebiocalendar.com/wp-content/uploads/2026/03/bps-scaled.jpg
END:VEVENT
BEGIN:VEVENT
DTSTART;VALUE=DATE:20260922
DTEND;VALUE=DATE:20260926
DTSTAMP:20260423T014851
CREATED:20260324T074629Z
LAST-MODIFIED:20260324T074733Z
UID:10064-1790035200-1790380799@thebiocalendar.com
SUMMARY:Biotech Week Boston 2026
DESCRIPTION:Be a Part of the Conversation at Biotech Week Boston 2026\n\n\n\n\n\nConnect with the full biopharmaceutical ecosystem – Biotech\, Academia\, Investors and Service Providers\nWhere C-Suite and Science come together to drive business and innovation\n3200+ global attendees from 35 countries under one roof
URL:https://thebiocalendar.com/event/biotech-week-boston-2026/
LOCATION:Boston\, MA\, 02210\, United States
END:VEVENT
END:VCALENDAR