BEGIN:VCALENDAR
VERSION:2.0
PRODID:-//The BioCalendar - ECPv6.15.20//NONSGML v1.0//EN
CALSCALE:GREGORIAN
METHOD:PUBLISH
X-ORIGINAL-URL:https://thebiocalendar.com
X-WR-CALDESC:Events for The BioCalendar
REFRESH-INTERVAL;VALUE=DURATION:PT1H
X-Robots-Tag:noindex
X-PUBLISHED-TTL:PT1H
BEGIN:VTIMEZONE
TZID:America/Los_Angeles
BEGIN:DAYLIGHT
TZOFFSETFROM:-0800
TZOFFSETTO:-0700
TZNAME:PDT
DTSTART:20250309T100000
END:DAYLIGHT
BEGIN:STANDARD
TZOFFSETFROM:-0700
TZOFFSETTO:-0800
TZNAME:PST
DTSTART:20251102T090000
END:STANDARD
BEGIN:DAYLIGHT
TZOFFSETFROM:-0800
TZOFFSETTO:-0700
TZNAME:PDT
DTSTART:20260308T100000
END:DAYLIGHT
BEGIN:STANDARD
TZOFFSETFROM:-0700
TZOFFSETTO:-0800
TZNAME:PST
DTSTART:20261101T090000
END:STANDARD
BEGIN:DAYLIGHT
TZOFFSETFROM:-0800
TZOFFSETTO:-0700
TZNAME:PDT
DTSTART:20270314T100000
END:DAYLIGHT
BEGIN:STANDARD
TZOFFSETFROM:-0700
TZOFFSETTO:-0800
TZNAME:PST
DTSTART:20271107T090000
END:STANDARD
END:VTIMEZONE
BEGIN:VEVENT
DTSTART;VALUE=DATE:20260310
DTEND;VALUE=DATE:20260312
DTSTAMP:20260422T072747
CREATED:20251121T114921Z
LAST-MODIFIED:20251121T114921Z
UID:9557-1773100800-1773273599@thebiocalendar.com
SUMMARY:Investival Showcase USA
DESCRIPTION:Connecting life science & healthcare executives with capital & partners\nRevolutionizing Healthcare: Where Visionary Life-Science Innovators Secure Game-Changing Capital and Partnerships \nJoin us in Miami on March 10-11\, 2026\, for Investival Showcase USA\, North America’s premier biotech\, medtech\, and digital health networking event. \nThis cutting-edge platform connects innovators with investors and partners through exclusive 1:1 sessions. Building on a decade of European success\, we’re bringing this dynamic format stateside. Whether you’re a start-up or seasoned investor\, don’t miss this opportunity to shape the future of healthcare innovation in vibrant Miami.
URL:https://thebiocalendar.com/event/investival-showcase-usa/
LOCATION:Miami Beach\, Miami Beach\, FL\, 33139\, United States
CATEGORIES:Investor,Networking
END:VEVENT
BEGIN:VEVENT
DTSTART;VALUE=DATE:20260302
DTEND;VALUE=DATE:20260304
DTSTAMP:20260422T072747
CREATED:20251121T115047Z
LAST-MODIFIED:20251121T160045Z
UID:9559-1772409600-1772582399@thebiocalendar.com
SUMMARY:BIO Investment and Growth Summit
DESCRIPTION:This premier conference brings together newly public and select private biotech companies with the investment banking community for two days of business and regulatory sessions\, Company Presentations\, BIO Partnering™\, and networking. \nJoin us in Miami Beach for two impactful days as we address the most pressing issues facing our industry\, from navigating the financial landscape for life sciences to tackling the ever-changing regulatory and policy challenges that affect biotech companies of all sizes. You’ll also have the opportunity to build relationships with strategic partners for investment and receive guidance on capital formation\, commercialization\, reimbursement\, and growth.
URL:https://thebiocalendar.com/event/bio-investment-and-growth-summit/
LOCATION:Miami Beach\, Miami Beach\, FL\, 33139\, United States
CATEGORIES:Investor,Networking
END:VEVENT
END:VCALENDAR